BEGIN:VCALENDAR
VERSION:2.0
PRODID:icalendar-ruby
CALSCALE:GREGORIAN
BEGIN:VTIMEZONE
TZID:America/Panama
END:VTIMEZONE
BEGIN:VEVENT
DTSTAMP:20260423T205111Z
UID:c4e69e82-52dc-4714-baa3-25bf35c7a35e
DTSTART:20130406T090000
DTEND:20130406T090000
CLASS:PRIVATE
DESCRIPTION:<div class="trix-content">\n  6 de abril\, Community Center.\n<
 /div>\n
SUMMARY:FlossParking
END:VEVENT
END:VCALENDAR
