BEGIN:VCALENDAR
VERSION:2.0
PRODID:icalendar-ruby
CALSCALE:GREGORIAN
BEGIN:VTIMEZONE
TZID:America/Panama
END:VTIMEZONE
BEGIN:VEVENT
DTSTAMP:20260423T205244Z
UID:221af0d3-7aca-467a-a4c6-0b09fb09eaa3
DTSTART:20150411T043300
DTEND:20150411T043300
CLASS:PRIVATE
DESCRIPTION:<div class="trix-content">\n  Festival Latino Americano de Inst
 alación de Software Libre\n\nInstalación\, charlas y talleres de softwar
 e libre.\n</div>\n
SUMMARY:Flisol David\, Panamá
END:VEVENT
END:VCALENDAR
