BEGIN:VCALENDAR
VERSION:2.0
PRODID:icalendar-ruby
CALSCALE:GREGORIAN
BEGIN:VTIMEZONE
TZID:America/Panama
END:VTIMEZONE
BEGIN:VEVENT
DTSTAMP:20260420T173413Z
UID:21cfe731-66e3-4cf3-9182-076b5db39674
DTSTART:20101203T163000
DTEND:20101203T163000
CLASS:PRIVATE
DESCRIPTION:<div class="trix-content">\n  El viernes 3 de diciembre se llev
 ará a cabo la fiesta de navidad de las comunidades software libre y open 
 source de Panamá. El evento se celebrará en el restaurante Pizzería Ita
 lia de la Tumba Muerto (http://is.gd/i4BEN más información).\n</div>\n
SUMMARY:Fiesta de Navidad floss-pa
END:VEVENT
END:VCALENDAR
