BEGIN:VCALENDAR
VERSION:2.0
PRODID:icalendar-ruby
CALSCALE:GREGORIAN
BEGIN:VTIMEZONE
TZID:America/Panama
END:VTIMEZONE
BEGIN:VEVENT
DTSTAMP:20260422T124003Z
UID:ffe24bb7-703e-41ae-b691-82287f4ad45c
DTSTART:20190927T083000
DTEND:20190927T130000
CLASS:PRIVATE
DESCRIPTION:<div class="trix-content">\n  Charlas sobre las comunidades y t
 ecnología de código Abierto en Panamá\, presentación para los estudian
 tes de la UTP<br>\n</div>\n
SUMMARY:Flosspa Day UTP
END:VEVENT
END:VCALENDAR
